BEGIN:VCALENDAR
VERSION:2.0
CALSCALE:GREGORIAN
PRODID:-//WordPress//RSVPMaker//EN
METHOD:REQUEST
BEGIN:VEVENT
DTSTAMP:20260425T190817Z
UID:6412121CBB2DC2CB9E460CFEE7046BE2@rsvpmaker.com
SEQUENCE:0
STATUS:CONFIRMED
DTSTART:20240330T020000Z
DTEND:20240330T060000Z
LOCATION:See\: https\://dungeonsandtoast.com/rsvpmaker/game-night-2024
 -03-29/
SUMMARY:Game Night
DESCRIPTION:Event info\: https\://dungeonsandtoast.com/rsvpmaker/game-
 night-2024-03-29/
END:VEVENT
END:VCALENDAR