BEGIN:VCALENDAR
VERSION:2.0
CALSCALE:GREGORIAN
PRODID:-//WordPress//RSVPMaker//EN
METHOD:REQUEST
BEGIN:VEVENT
DTSTAMP:20260425T160645Z
UID:5E62C1998206E0110459A6143546FE2E@rsvpmaker.com
SEQUENCE:0
STATUS:CONFIRMED
DTSTART:20240224T030000Z
DTEND:20240224T070000Z
LOCATION:See\: https\://dungeonsandtoast.com/rsvpmaker/game-night-2024
 -02-23/
SUMMARY:Blink and You'll Miss It
DESCRIPTION:Event info\: https\://dungeonsandtoast.com/rsvpmaker/game-
 night-2024-02-23/
END:VEVENT
END:VCALENDAR