BEGIN:VCALENDAR
VERSION:2.0
CALSCALE:GREGORIAN
PRODID:-//WordPress//RSVPMaker//EN
METHOD:REQUEST
BEGIN:VEVENT
DTSTAMP:20260425T211834Z
UID:A80BD9BF170ECC756D4EF302C4F0E712@rsvpmaker.com
SEQUENCE:0
STATUS:CONFIRMED
DTSTART:20240208T000000Z
DTEND:20240208T010000Z
LOCATION:See\: https\://dungeonsandtoast.com/rsvpmaker/game-night-2024
 -02-01/
SUMMARY:Batteries Not Included, Encore
DESCRIPTION:Event info\: https\://dungeonsandtoast.com/rsvpmaker/game-
 night-2024-02-01/
END:VEVENT
END:VCALENDAR