BEGIN:VCALENDAR
VERSION:2.0
CALSCALE:GREGORIAN
PRODID:-//WordPress//RSVPMaker//EN
METHOD:REQUEST
BEGIN:VEVENT
DTSTAMP:20260426T014022Z
UID:1AAB7BAA714E14868FE9EAC65FCBD315@rsvpmaker.com
SEQUENCE:0
STATUS:CONFIRMED
DTSTART:20240127T010000Z
DTEND:20240127T020000Z
LOCATION:See\: https\://dungeonsandtoast.com/rsvpmaker/game-night-2024
 -01-26/
SUMMARY:Batteries Not Included
DESCRIPTION:Event info\: https\://dungeonsandtoast.com/rsvpmaker/game-
 night-2024-01-26/
END:VEVENT
END:VCALENDAR