BEGIN:VCALENDAR
VERSION:2.0
CALSCALE:GREGORIAN
PRODID:-//WordPress//RSVPMaker//EN
METHOD:REQUEST
BEGIN:VEVENT
DTSTAMP:20260425T203506Z
UID:4F20F7F5D2E7A1B640EBC8244428558C@rsvpmaker.com
SEQUENCE:0
STATUS:CONFIRMED
DTSTART:20230930T020000Z
DTEND:20230930T060000Z
LOCATION:See\: https\://dungeonsandtoast.com/rsvpmaker/game-night-2023
 -09-29/
SUMMARY:Harengon Game Night
DESCRIPTION:Event info\: https\://dungeonsandtoast.com/rsvpmaker/game-
 night-2023-09-29/
END:VEVENT
END:VCALENDAR