BEGIN:VCALENDAR
VERSION:2.0
CALSCALE:GREGORIAN
PRODID:-//WordPress//RSVPMaker//EN
METHOD:REQUEST
BEGIN:VEVENT
DTSTAMP:20260425T124729Z
UID:B7C0C7D6CE233D0FE18625EA3CD5BDB1@rsvpmaker.com
SEQUENCE:0
STATUS:CONFIRMED
DTSTART:20230826T010000Z
DTEND:20230826T020000Z
LOCATION:See\: https\://dungeonsandtoast.com/rsvpmaker/game-night-2023
 -08-25/
SUMMARY:Old Gods of Appalachia, Session 1
DESCRIPTION:Event info\: https\://dungeonsandtoast.com/rsvpmaker/game-
 night-2023-08-25/
END:VEVENT
END:VCALENDAR