BEGIN:VCALENDAR
VERSION:2.0
CALSCALE:GREGORIAN
PRODID:-//WordPress//RSVPMaker//EN
METHOD:REQUEST
BEGIN:VEVENT
DTSTAMP:20260425T110013Z
UID:ABA2B11D01C3742D77A4391276731579@rsvpmaker.com
SEQUENCE:0
STATUS:CONFIRMED
DTSTART:20251129T010000Z
DTEND:20251129T020000Z
LOCATION:See\: https\://dungeonsandtoast.com/rsvpmaker/game-night-10/
SUMMARY:Game Night
DESCRIPTION:Event info\: https\://dungeonsandtoast.com/rsvpmaker/game-
 night-10/
END:VEVENT
END:VCALENDAR