BEGIN:VCALENDAR
VERSION:2.0
CALSCALE:GREGORIAN
PRODID:-//WordPress//RSVPMaker//EN
METHOD:REQUEST
BEGIN:VEVENT
DTSTAMP:20260424T080524Z
UID:6E8404C3B93A9527C8DB241A1846599A@rsvpmaker.com
SEQUENCE:0
STATUS:CONFIRMED
DTSTART:20221027T013000Z
DTEND:20221027T023000Z
LOCATION:See\: https\://dungeonsandtoast.com/rsvpmaker/game-master-aca
 deme-2022-10-26/
SUMMARY:Game Master Academe
DESCRIPTION:Event info\: https\://dungeonsandtoast.com/rsvpmaker/game-
 master-academe-2022-10-26/
END:VEVENT
END:VCALENDAR