BEGIN:VCALENDAR
VERSION:2.0
CALSCALE:GREGORIAN
PRODID:-//WordPress//RSVPMaker//EN
METHOD:REQUEST
BEGIN:VEVENT
DTSTAMP:20260424T093031Z
UID:01846AE470651E97D2F73FCE979406A9@rsvpmaker.com
SEQUENCE:0
STATUS:CONFIRMED
DTSTART:20221020T013000Z
DTEND:20221020T023000Z
LOCATION:See\: https\://dungeonsandtoast.com/rsvpmaker/game-master-aca
 deme-2022-10-19/
SUMMARY:Game Master Academe
DESCRIPTION:Event info\: https\://dungeonsandtoast.com/rsvpmaker/game-
 master-academe-2022-10-19/
END:VEVENT
END:VCALENDAR