BEGIN:VCALENDAR
VERSION:2.0
CALSCALE:GREGORIAN
PRODID:-//WordPress//RSVPMaker//EN
METHOD:REQUEST
BEGIN:VEVENT
DTSTAMP:20260424T105856Z
UID:049671E28A386427E432B3370A22AAE4@rsvpmaker.com
SEQUENCE:0
STATUS:CONFIRMED
DTSTART:20221013T013000Z
DTEND:20221013T023000Z
LOCATION:See\: https\://dungeonsandtoast.com/rsvpmaker/game-master-aca
 deme-2022-10-12/
SUMMARY:Game Master Academe
DESCRIPTION:Event info\: https\://dungeonsandtoast.com/rsvpmaker/game-
 master-academe-2022-10-12/
END:VEVENT
END:VCALENDAR