BEGIN:VCALENDAR
VERSION:2.0
CALSCALE:GREGORIAN
PRODID:-//WordPress//RSVPMaker//EN
METHOD:REQUEST
BEGIN:VEVENT
DTSTAMP:20260424T122945Z
UID:828C3938B662961ED8F775ED638B97F2@rsvpmaker.com
SEQUENCE:0
STATUS:CONFIRMED
DTSTART:20221006T013000Z
DTEND:20221006T023000Z
LOCATION:See\: https\://dungeonsandtoast.com/rsvpmaker/game-master-aca
 deme-2022-10-05/
SUMMARY:Game Master Academe
DESCRIPTION:Event info\: https\://dungeonsandtoast.com/rsvpmaker/game-
 master-academe-2022-10-05/
END:VEVENT
END:VCALENDAR