BEGIN:VCALENDAR
VERSION:2.0
CALSCALE:GREGORIAN
PRODID:-//WordPress//RSVPMaker//EN
METHOD:REQUEST
BEGIN:VEVENT
DTSTAMP:20260424T141731Z
UID:487129304ECA93E3646DD0C7DD441BF5@rsvpmaker.com
SEQUENCE:0
STATUS:CONFIRMED
DTSTART:20220929T013000Z
DTEND:20220929T023000Z
LOCATION:See\: https\://dungeonsandtoast.com/rsvpmaker/game-master-aca
 deme-2022-09-28/
SUMMARY:Game Master Academe
DESCRIPTION:Event info\: https\://dungeonsandtoast.com/rsvpmaker/game-
 master-academe-2022-09-28/
END:VEVENT
END:VCALENDAR