BEGIN:VCALENDAR
VERSION:2.0
CALSCALE:GREGORIAN
PRODID:-//WordPress//RSVPMaker//EN
METHOD:REQUEST
BEGIN:VEVENT
DTSTAMP:20260424T155644Z
UID:96BF57C6FF19504FF145E2A32991EA96@rsvpmaker.com
SEQUENCE:0
STATUS:CONFIRMED
DTSTART:20220922T013000Z
DTEND:20220922T023000Z
LOCATION:See\: https\://dungeonsandtoast.com/rsvpmaker/game-master-aca
 deme-2022-09-21/
SUMMARY:Game Master Academe
DESCRIPTION:Event info\: https\://dungeonsandtoast.com/rsvpmaker/game-
 master-academe-2022-09-21/
END:VEVENT
END:VCALENDAR