BEGIN:VCALENDAR
VERSION:2.0
CALSCALE:GREGORIAN
PRODID:-//WordPress//RSVPMaker//EN
METHOD:REQUEST
BEGIN:VEVENT
DTSTAMP:20260424T174042Z
UID:E6385D39EC9394F2F3A354D9D2B88EEC@rsvpmaker.com
SEQUENCE:0
STATUS:CONFIRMED
DTSTART:20220915T013000Z
DTEND:20220915T023000Z
LOCATION:See\: https\://dungeonsandtoast.com/rsvpmaker/game-master-aca
 deme-2022-09-14/
SUMMARY:Game Master Academe
DESCRIPTION:Event info\: https\://dungeonsandtoast.com/rsvpmaker/game-
 master-academe-2022-09-14/
END:VEVENT
END:VCALENDAR