BEGIN:VCALENDAR
VERSION:2.0
CALSCALE:GREGORIAN
PRODID:-//WordPress//RSVPMaker//EN
METHOD:REQUEST
BEGIN:VEVENT
DTSTAMP:20260424T210215Z
UID:7ABDFBD11B37A9F822FB1FFEFB860A31@rsvpmaker.com
SEQUENCE:0
STATUS:CONFIRMED
DTSTART:20220901T013000Z
DTEND:20220901T023000Z
LOCATION:See\: https\://dungeonsandtoast.com/rsvpmaker/game-master-aca
 deme-2022-08-31/
SUMMARY:Game Master Academe
DESCRIPTION:Event info\: https\://dungeonsandtoast.com/rsvpmaker/game-
 master-academe-2022-08-31/
END:VEVENT
END:VCALENDAR