BEGIN:VCALENDAR
VERSION:2.0
CALSCALE:GREGORIAN
PRODID:-//WordPress//RSVPMaker//EN
METHOD:REQUEST
BEGIN:VEVENT
DTSTAMP:20260425T174901Z
UID:B0BA3EF0FBB84634CBDA64006C598618@rsvpmaker.com
SEQUENCE:0
STATUS:CONFIRMED
DTSTART:20251002T000000Z
DTEND:20251002T010000Z
LOCATION:See\: https\://dungeonsandtoast.com/rsvpmaker/game-2-encore-2
 /
SUMMARY:Game 2 Encore
DESCRIPTION:Event info\: https\://dungeonsandtoast.com/rsvpmaker/game-
 2-encore-2/
END:VEVENT
END:VCALENDAR