BEGIN:VCALENDAR
VERSION:2.0
CALSCALE:GREGORIAN
PRODID:-//WordPress//RSVPMaker//EN
METHOD:REQUEST
BEGIN:VEVENT
DTSTAMP:20260424T155719Z
UID:BA3C5FE1D6D6708B5BFFAEB6942B7E04@rsvpmaker.com
SEQUENCE:0
STATUS:CONFIRMED
DTSTART:20230228T010000Z
DTEND:20230228T040000Z
LOCATION:See\: https\://dungeonsandtoast.com/rsvpmaker/found-things-en
 core-night-1-2023-02-27/
SUMMARY:Found Things Encore, Night 1
DESCRIPTION:Event info\: https\://dungeonsandtoast.com/rsvpmaker/found
 -things-encore-night-1-2023-02-27/
END:VEVENT
END:VCALENDAR