BEGIN:VCALENDAR
VERSION:2.0
CALSCALE:GREGORIAN
PRODID:-//WordPress//RSVPMaker//EN
METHOD:REQUEST
BEGIN:VEVENT
DTSTAMP:20260426T032154Z
UID:3D36C145F1F16C368173C437335B4ACD@rsvpmaker.com
SEQUENCE:0
STATUS:CONFIRMED
DTSTART:20250427T150000Z
DTEND:20250427T190000Z
LOCATION:See\: https\://dungeonsandtoast.com/rsvpmaker/encore-tea-for-
 two-2025-04-27/
SUMMARY:Encore: Tea for Two
DESCRIPTION:Event info\: https\://dungeonsandtoast.com/rsvpmaker/encor
 e-tea-for-two-2025-04-27/
END:VEVENT
END:VCALENDAR