BEGIN:VCALENDAR
VERSION:2.0
CALSCALE:GREGORIAN
PRODID:-//WordPress//RSVPMaker//EN
METHOD:REQUEST
BEGIN:VEVENT
DTSTAMP:20260426T001753Z
UID:FA93AC46951909A7575D591BC4D85CE6@rsvpmaker.com
SEQUENCE:0
STATUS:CONFIRMED
DTSTART:20241022T230000Z
DTEND:20241023T000000Z
LOCATION:See\: https\://dungeonsandtoast.com/rsvpmaker/encore-game-nig
 ht-2024-10-22/
SUMMARY:The Search Begins, Encore
DESCRIPTION:Event info\: https\://dungeonsandtoast.com/rsvpmaker/encor
 e-game-night-2024-10-22/
END:VEVENT
END:VCALENDAR