BEGIN:VCALENDAR
VERSION:2.0
CALSCALE:GREGORIAN
PRODID:-//WordPress//RSVPMaker//EN
METHOD:REQUEST
BEGIN:VEVENT
DTSTAMP:20260425T014542Z
UID:1DE7D2B90D554BE9F0DB1C338E80197D@rsvpmaker.com
SEQUENCE:0
STATUS:CONFIRMED
DTSTART:20230325T160000Z
DTEND:20230325T190000Z
LOCATION:See\: https\://dungeonsandtoast.com/rsvpmaker/division-s-spee
 ch-contest-raid-2023-03-25/
SUMMARY:Division S Speech Contest Raid
DESCRIPTION:Event info\: https\://dungeonsandtoast.com/rsvpmaker/divis
 ion-s-speech-contest-raid-2023-03-25/
END:VEVENT
END:VCALENDAR