BEGIN:VCALENDAR
VERSION:2.0
CALSCALE:GREGORIAN
PRODID:-//WordPress//RSVPMaker//EN
METHOD:REQUEST
BEGIN:VEVENT
DTSTAMP:20260424T080636Z
UID:AE3539867AAEEC609A4260C6FEB725F4@rsvpmaker.com
SEQUENCE:0
STATUS:CONFIRMED
DTSTART:20220326T183000Z
DTEND:20220326T190000Z
LOCATION:See\: https\://dungeonsandtoast.com/rsvpmaker/division-g-and-
 l-contests-2022-03-26/
SUMMARY:Division G and L Contests
DESCRIPTION:Event info\: https\://dungeonsandtoast.com/rsvpmaker/divis
 ion-g-and-l-contests-2022-03-26/
END:VEVENT
END:VCALENDAR