BEGIN:VCALENDAR
VERSION:2.0
CALSCALE:GREGORIAN
PRODID:-//WordPress//RSVPMaker//EN
METHOD:REQUEST
BEGIN:VEVENT
DTSTAMP:20260423T220817Z
UID:946E3ECE1FC8B24BD656449D88ECA941@rsvpmaker.com
SEQUENCE:0
STATUS:CONFIRMED
DTSTART:20220423T150000Z
DTEND:20220423T160000Z
LOCATION:See\: https\://dungeonsandtoast.com/rsvpmaker/district-100-co
 nference-2022-04-23/
SUMMARY:District 100 Conference
DESCRIPTION:Event info\: https\://dungeonsandtoast.com/rsvpmaker/distr
 ict-100-conference-2022-04-23/
END:VEVENT
END:VCALENDAR