BEGIN:VCALENDAR
VERSION:2.0
CALSCALE:GREGORIAN
PRODID:-//WordPress//RSVPMaker//EN
METHOD:REQUEST
BEGIN:VEVENT
DTSTAMP:20260425T192827Z
UID:C6AE9174774E254650073722E5B92A8F@rsvpmaker.com
SEQUENCE:0
STATUS:CONFIRMED
DTSTART:20230729T020000Z
DTEND:20230729T060000Z
LOCATION:See\: https\://dungeonsandtoast.com/rsvpmaker/dark-harvest/
SUMMARY:Dark Harvest
DESCRIPTION:Event info\: https\://dungeonsandtoast.com/rsvpmaker/dark-
 harvest/
END:VEVENT
END:VCALENDAR