BEGIN:VCALENDAR
VERSION:2.0
CALSCALE:GREGORIAN
PRODID:-//WordPress//RSVPMaker//EN
METHOD:REQUEST
BEGIN:VEVENT
DTSTAMP:20260425T193848Z
UID:5C16B0D099FD16C49462FB3C951B3EBF@rsvpmaker.com
SEQUENCE:0
STATUS:CONFIRMED
DTSTART:20230731T230000Z
DTEND:20230801T000000Z
LOCATION:See\: https\://dungeonsandtoast.com/rsvpmaker/dark-harvest-en
 core/
SUMMARY:Dark Harvest, Encore
DESCRIPTION:Event info\: https\://dungeonsandtoast.com/rsvpmaker/dark-
 harvest-encore/
END:VEVENT
END:VCALENDAR