BEGIN:VCALENDAR
VERSION:2.0
CALSCALE:GREGORIAN
PRODID:-//WordPress//RSVPMaker//EN
METHOD:REQUEST
BEGIN:VEVENT
DTSTAMP:20260424T191507Z
UID:AF88D16112663EF32519C582073F44C4@rsvpmaker.com
SEQUENCE:0
STATUS:CONFIRMED
DTSTART:20230311T173000Z
DTEND:20230311T200000Z
LOCATION:See\: https\://dungeonsandtoast.com/rsvpmaker/d100-division-s
 -area-4-tall-tales-raid/
SUMMARY:Raid of D100 Division S4 Tall Tales
DESCRIPTION:Event info\: https\://dungeonsandtoast.com/rsvpmaker/d100-
 division-s-area-4-tall-tales-raid/
END:VEVENT
END:VCALENDAR