BEGIN:VCALENDAR
VERSION:2.0
CALSCALE:GREGORIAN
PRODID:-//WordPress//RSVPMaker//EN
METHOD:REQUEST
BEGIN:VEVENT
DTSTAMP:20260424T210049Z
UID:34F5297EF0BA66F4B3CA225078560D11@rsvpmaker.com
SEQUENCE:0
STATUS:CONFIRMED
DTSTART:20230311T200000Z
DTEND:20230311T200000Z
LOCATION:See\: https\://dungeonsandtoast.com/rsvpmaker/d100-division-g
 -speech-contestsraid-2023-03-11/
SUMMARY:Raid of D100 Division G Speech Contests
DESCRIPTION:Event info\: https\://dungeonsandtoast.com/rsvpmaker/d100-
 division-g-speech-contestsraid-2023-03-11/
END:VEVENT
END:VCALENDAR