BEGIN:VCALENDAR
VERSION:2.0
CALSCALE:GREGORIAN
PRODID:-//WordPress//RSVPMaker//EN
METHOD:REQUEST
BEGIN:VEVENT
DTSTAMP:20260425T124728Z
UID:06B1338BA02ADD2B5D2DA67663B19EBE@rsvpmaker.com
SEQUENCE:0
STATUS:CONFIRMED
DTSTART:20211212T030000Z
DTEND:20211212T040000Z
LOCATION:See\: https\://dungeonsandtoast.com/rsvpmaker/d100-advanced-o
 fficer-training-2021-12-11/
SUMMARY:D100 Advanced Officer Training
DESCRIPTION:Event info\: https\://dungeonsandtoast.com/rsvpmaker/d100-
 advanced-officer-training-2021-12-11/
END:VEVENT
END:VCALENDAR