BEGIN:VCALENDAR
VERSION:2.0
CALSCALE:GREGORIAN
PRODID:-//WordPress//RSVPMaker//EN
METHOD:REQUEST
BEGIN:VEVENT
DTSTAMP:20260425T124600Z
UID:5AAFFBAE8A48FC24F114EE4DCD9C6171@rsvpmaker.com
SEQUENCE:0
STATUS:CONFIRMED
DTSTART:20230701T020000Z
DTEND:20230701T040000Z
LOCATION:See\: https\://dungeonsandtoast.com/rsvpmaker/customizable-ev
 ent-copy/
SUMMARY:Member &amp; Guest Movie Night
DESCRIPTION:Event info\: https\://dungeonsandtoast.com/rsvpmaker/custo
 mizable-event-copy/
END:VEVENT
END:VCALENDAR