BEGIN:VCALENDAR
VERSION:2.0
CALSCALE:GREGORIAN
PRODID:-//WordPress//RSVPMaker//EN
METHOD:REQUEST
BEGIN:VEVENT
DTSTAMP:20260424T080808Z
UID:4607F7FFF0DCE694258E1C637512AA9D@rsvpmaker.com
SEQUENCE:0
STATUS:CONFIRMED
DTSTART:20220625T020000Z
DTEND:20220625T030000Z
LOCATION:See\: https\://dungeonsandtoast.com/rsvpmaker/customizable-ev
 ent-2022-06-24/
SUMMARY:Club and Guest Movie Night: "The Gamers"
DESCRIPTION:Event info\: https\://dungeonsandtoast.com/rsvpmaker/custo
 mizable-event-2022-06-24/
END:VEVENT
END:VCALENDAR