BEGIN:VCALENDAR
VERSION:2.0
CALSCALE:GREGORIAN
PRODID:-//WordPress//RSVPMaker//EN
METHOD:REQUEST
BEGIN:VEVENT
DTSTAMP:20260424T122039Z
UID:A569398D13EB87B14276380D2921DDBC@rsvpmaker.com
SEQUENCE:0
STATUS:CONFIRMED
DTSTART:20230218T020000Z
DTEND:20230218T050000Z
LOCATION:See\: https\://dungeonsandtoast.com/rsvpmaker/club-contest-20
 23-02-17/
SUMMARY:Club Contest
DESCRIPTION:Event info\: https\://dungeonsandtoast.com/rsvpmaker/club-
 contest-2023-02-17/
END:VEVENT
END:VCALENDAR