BEGIN:VCALENDAR
VERSION:2.0
CALSCALE:GREGORIAN
PRODID:-//WordPress//RSVPMaker//EN
METHOD:REQUEST
BEGIN:VEVENT
DTSTAMP:20260425T160807Z
UID:EF1890585BAE446A0668AFED3012DAA2@rsvpmaker.com
SEQUENCE:0
STATUS:CONFIRMED
DTSTART:20240324T020000Z
DTEND:20240324T030000Z
LOCATION:See\: https\://dungeonsandtoast.com/rsvpmaker/blink-and-youll
 -miss-it-2024-03-23/
SUMMARY:Blink and You'll Miss It
DESCRIPTION:Event info\: https\://dungeonsandtoast.com/rsvpmaker/blink
 -and-youll-miss-it-2024-03-23/
END:VEVENT
END:VCALENDAR