BEGIN:VCALENDAR
VERSION:2.0
CALSCALE:GREGORIAN
PRODID:-//WordPress//RSVPMaker//EN
METHOD:REQUEST
BEGIN:VEVENT
DTSTAMP:20260425T124914Z
UID:0634AC7160D3FD64DDF19BDCBDD401BB@rsvpmaker.com
SEQUENCE:0
STATUS:CONFIRMED
DTSTART:20240322T220000Z
DTEND:20240323T020000Z
LOCATION:See\: https\://dungeonsandtoast.com/rsvpmaker/batteries-not-i
 ncluded-encore-2024-03-22/
SUMMARY:Batteries Not Included, Encore
DESCRIPTION:Event info\: https\://dungeonsandtoast.com/rsvpmaker/batte
 ries-not-included-encore-2024-03-22/
END:VEVENT
END:VCALENDAR