BEGIN:VCALENDAR
VERSION:2.0
CALSCALE:GREGORIAN
PRODID:-//WordPress//RSVPMaker//EN
METHOD:REQUEST
BEGIN:VEVENT
DTSTAMP:20260425T224716Z
UID:AEBF7782A3D445F43CF30EE2C0D84DEE@rsvpmaker.com
SEQUENCE:0
STATUS:CONFIRMED
DTSTART:20220108T170000Z
DTEND:20220108T210000Z
LOCATION:See\: https\://dungeonsandtoast.com/rsvpmaker/basic-officer-t
 raining-2022-01-10/
SUMMARY:D100 Toastmasters Leadership Institute (TLI)
DESCRIPTION:Event info\: https\://dungeonsandtoast.com/rsvpmaker/basic
 -officer-training-2022-01-10/
END:VEVENT
END:VCALENDAR