BEGIN:VCALENDAR
VERSION:2.0
CALSCALE:GREGORIAN
PRODID:-//WordPress//RSVPMaker//EN
METHOD:REQUEST
BEGIN:VEVENT
DTSTAMP:20260425T110255Z
UID:B433DA1B32B5CA96C0BA7FCB9EDBA97D@rsvpmaker.com
SEQUENCE:0
STATUS:CONFIRMED
DTSTART:20240309T210000Z
DTEND:20240309T220000Z
LOCATION:See\: https\://dungeonsandtoast.com/rsvpmaker/area-4-speech-c
 ontest-2024-03-09/
SUMMARY:Area 4 Speech Contest
DESCRIPTION:Event info\: https\://dungeonsandtoast.com/rsvpmaker/area-
 4-speech-contest-2024-03-09/
END:VEVENT
END:VCALENDAR