BEGIN:VCALENDAR
VERSION:2.0
CALSCALE:GREGORIAN
PRODID:-//WordPress//RSVPMaker//EN
METHOD:REQUEST
BEGIN:VEVENT
DTSTAMP:20260425T174528Z
UID:F5C59267DAE7D123F54B741A76F28F84@rsvpmaker.com
SEQUENCE:0
STATUS:CONFIRMED
DTSTART:20240217T030000Z
DTEND:20240217T040000Z
LOCATION:See\: https\://dungeonsandtoast.com/rsvpmaker/2024-verbal-jou
 st-2024-02-16/
SUMMARY:2024 Verbal Joust
DESCRIPTION:Event info\: https\://dungeonsandtoast.com/rsvpmaker/2024-
 verbal-joust-2024-02-16/
END:VEVENT
END:VCALENDAR