BEGIN:VCALENDAR
VERSION:2.0
CALSCALE:GREGORIAN
PRODID:-//WordPress//RSVPMaker//EN
METHOD:REQUEST
BEGIN:VEVENT
DTSTAMP:20260425T142640Z
UID:2307AC1CFEE5DB3A5402AAC9DB25CC5D@rsvpmaker.com
SEQUENCE:0
STATUS:CONFIRMED
DTSTART:20240323T160000Z
DTEND:20240323T170000Z
LOCATION:See\: https\://dungeonsandtoast.com/rsvpmaker/2024-division-g
 -raid/
SUMMARY:Division G Raid
DESCRIPTION:Event info\: https\://dungeonsandtoast.com/rsvpmaker/2024-
 division-g-raid/
END:VEVENT
END:VCALENDAR