BEGIN:VCALENDAR
VERSION:2.0
CALSCALE:GREGORIAN
PRODID:-//WordPress//RSVPMaker//EN
METHOD:REQUEST
BEGIN:VEVENT
DTSTAMP:20260424T044945Z
UID:C5C64C10CFD77B16A03AA81F09499F25@rsvpmaker.com
SEQUENCE:0
STATUS:CONFIRMED
DTSTART:20221109T003000Z
DTEND:20221109T033000Z
LOCATION:See\: https\://dungeonsandtoast.com/rsvpmaker/2022-11-08-mich
 ael-cohens-encore/
SUMMARY:Michael Cohen's Encore Adventure
DESCRIPTION:Event info\: https\://dungeonsandtoast.com/rsvpmaker/2022-
 11-08-michael-cohens-encore/
END:VEVENT
END:VCALENDAR